{
 "currentVersion": 10.81,
 "serviceDescription": "Ownership parcels ofr Davidson County in Tennessee State Plane",
 "mapName": "Layers",
 "description": "",
 "copyrightText": "",
 "supportsDynamicLayers": false,
 "layers": [
  {
   "id": 0,
   "name": "Ownership Parcels",
   "parentLayerId": -1,
   "defaultVisibility": true,
   "subLayerIds": null,
   "minScale": 10000,
   "maxScale": 0,
   "type": "Feature Layer",
   "geometryType": "esriGeometryPolygon"
  }
 ],
 "tables": [],
 "spatialReference": {
  "wkid": 102736,
  "latestWkid": 2274
 },
 "singleFusedMapCache": true,
 "tileInfo": {
  "rows": 512,
  "cols": 512,
  "dpi": 96,
  "format": "PNG32",
  "compressionQuality": 0,
  "origin": {
   "x": -121521300,
   "y": 153045600
  },
  "spatialReference": {
   "wkid": 102736,
   "latestWkid": 2274
  },
  "lods": [
   {
    "level": 0,
    "resolution": 444.4444444444444,
    "scale": 512000
   },
   {
    "level": 1,
    "resolution": 222.2222222222222,
    "scale": 256000
   },
   {
    "level": 2,
    "resolution": 111.1111111111111,
    "scale": 128000
   },
   {
    "level": 3,
    "resolution": 55.55555555555555,
    "scale": 64000
   },
   {
    "level": 4,
    "resolution": 27.777777777777775,
    "scale": 32000
   },
   {
    "level": 5,
    "resolution": 13.888888888888888,
    "scale": 16000
   },
   {
    "level": 6,
    "resolution": 8.333333333333332,
    "scale": 9600
   },
   {
    "level": 7,
    "resolution": 4.166666666666666,
    "scale": 4800
   },
   {
    "level": 8,
    "resolution": 2.083333333333333,
    "scale": 2400
   },
   {
    "level": 9,
    "resolution": 1.0416666666666665,
    "scale": 1200
   }
  ]
 },
 "initialExtent": {
  "xmin": 1727332.3765135831,
  "ymin": 640256.8930965741,
  "xmax": 1745943.4876246941,
  "ymax": 645378.4208743519,
  "spatialReference": {
   "wkid": 102736,
   "latestWkid": 2274
  }
 },
 "fullExtent": {
  "xmin": 1656737.5167918056,
  "ymin": 595512.3999146372,
  "xmax": 1817373.7991931438,
  "ymax": 755221.4000498056,
  "spatialReference": {
   "wkid": 102736,
   "latestWkid": 2274
  }
 },
 "minScale": 16000,
 "maxScale": 1200,
 "minLOD": 4,
 "maxLOD": 9,
 "units": "esriFeet",
 "supportedImageFormatTypes": "PNG32,PNG24,PNG,JPG,DIB,TIFF,EMF,PS,PDF,GIF,SVG,SVGZ,BMP",
 "documentInfo": {
  "Title": "Parcels",
  "Author": "jhiggs",
  "Comments": "Parcel Boundaries for Nashville/Davidson County",
  "Subject": "Parcel Boundaries for Nashville/Davidson County",
  "Category": "",
  "AntialiasingMode": "None",
  "TextAntialiasingMode": "Force",
  "Keywords": "Parcels"
 },
 "capabilities": "Map,Query,Data",
 "supportedQueryFormats": "JSON, geoJSON",
 "exportTilesAllowed": false,
 "referenceScale": 0,
 "datumTransformations": [
  {
   "geoTransforms": [
    {
     "wkid": 108001,
     "latestWkid": 1241,
     "transformForward": true,
     "name": "NAD_1927_To_NAD_1983_NADCON"
    }
   ]
  },
  {
   "geoTransforms": [
    {
     "wkid": 108001,
     "latestWkid": 1241,
     "transformForward": false,
     "name": "NAD_1927_To_NAD_1983_NADCON"
    }
   ]
  }
 ],
 "supportsDatumTransformation": true,
 "maxRecordCount": 10000,
 "maxImageHeight": 4096,
 "maxImageWidth": 4096,
 "supportedExtensions": "KmlServer"
}
