{
 "currentVersion": 10.81,
 "serviceDescription": "This 1\":200' scale imagery is comprised of natural color (RGB) orthoimagery with a GSD (Ground Sample Distance) of 1.0'. Imagery was collected with the Leica ADS40 digital sensor and processed with Leica GPro software. The full sized georeferenced TIFF images were then compressed with Lizardtech MrSID software.\n\nThe imagery was obtained May 3, 2010.\n\nHorizontal_Positional_Accuracy_Report: This imagery complies with National Map Accuracy Standards (NMAS) for 1\" = 200' scale mapping products. Does not apply to vertical surface features, such as structures, appearing in the digital orthoimagery due to inherent lean. \n",
 "mapName": "Layers",
 "description": "",
 "copyrightText": "MetroGIS; Kucera International, Inc.",
 "supportsDynamicLayers": false,
 "layers": [
  {
   "id": 0,
   "name": "Davidson_May3_2010.sid",
   "parentLayerId": -1,
   "defaultVisibility": true,
   "subLayerIds": null,
   "minScale": 0,
   "maxScale": 0,
   "type": "Raster Layer"
  }
 ],
 "tables": [],
 "spatialReference": {
  "wkid": 102100,
  "latestWkid": 3857
 },
 "singleFusedMapCache": true,
 "tileInfo": {
  "rows": 256,
  "cols": 256,
  "dpi": 96,
  "format": "MIXED",
  "compressionQuality": 75,
  "origin": {
   "x": -2.0037508342787E7,
   "y": 2.0037508342787E7
  },
  "spatialReference": {
   "wkid": 102100,
   "latestWkid": 3857
  },
  "lods": [
   {
    "level": 0,
    "resolution": 156543.03392800014,
    "scale": 5.91657527591555E8
   },
   {
    "level": 1,
    "resolution": 78271.51696399994,
    "scale": 2.95828763795777E8
   },
   {
    "level": 2,
    "resolution": 39135.75848200009,
    "scale": 1.47914381897889E8
   },
   {
    "level": 3,
    "resolution": 19567.87924099992,
    "scale": 7.3957190948944E7
   },
   {
    "level": 4,
    "resolution": 9783.93962049996,
    "scale": 3.6978595474472E7
   },
   {
    "level": 5,
    "resolution": 4891.96981024998,
    "scale": 1.8489297737236E7
   },
   {
    "level": 6,
    "resolution": 2445.98490512499,
    "scale": 9244648.868618
   },
   {
    "level": 7,
    "resolution": 1222.992452562495,
    "scale": 4622324.434309
   },
   {
    "level": 8,
    "resolution": 611.4962262813797,
    "scale": 2311162.217155
   },
   {
    "level": 9,
    "resolution": 305.74811314055756,
    "scale": 1155581.108577
   },
   {
    "level": 10,
    "resolution": 152.87405657041106,
    "scale": 577790.554289
   },
   {
    "level": 11,
    "resolution": 76.43702828507324,
    "scale": 288895.277144
   },
   {
    "level": 12,
    "resolution": 38.21851414253662,
    "scale": 144447.638572
   },
   {
    "level": 13,
    "resolution": 19.10925707126831,
    "scale": 72223.819286
   },
   {
    "level": 14,
    "resolution": 9.554628535634155,
    "scale": 36111.909643
   },
   {
    "level": 15,
    "resolution": 4.77731426794937,
    "scale": 18055.954822
   },
   {
    "level": 16,
    "resolution": 2.388657133974685,
    "scale": 9027.977411
   },
   {
    "level": 17,
    "resolution": 1.1943285668550503,
    "scale": 4513.988705
   },
   {
    "level": 18,
    "resolution": 0.5971642835598172,
    "scale": 2256.994353
   },
   {
    "level": 19,
    "resolution": 0.29858214164761665,
    "scale": 1128.497176
   }
  ]
 },
 "initialExtent": {
  "xmin": -9700450.713078449,
  "ymin": 4316628.184336992,
  "xmax": -9623298.05877314,
  "ymax": 4358458.89299841,
  "spatialReference": {
   "wkid": 102100,
   "latestWkid": 3857
  }
 },
 "fullExtent": {
  "xmin": -9693771.154221985,
  "ymin": 4293426.777269729,
  "xmax": -9629891.078932507,
  "ymax": 4357586.63905809,
  "spatialReference": {
   "wkid": 102100,
   "latestWkid": 3857
  }
 },
 "minScale": 1155581.108577,
 "maxScale": 1128.497176,
 "units": "esriMeters",
 "supportedImageFormatTypes": "PNG32,PNG24,PNG,JPG,DIB,TIFF,EMF,PS,PDF,GIF,SVG,SVGZ,BMP",
 "documentInfo": {
  "Title": "",
  "Author": "",
  "Comments": "\nThis 1\":100' scale imagery is comprised of natural color (RGB)and color infrared (CIR) orthoimagery with a GSD (Ground Sample Distance) of 0.75'. Imagery was collected with the Leica ADS40 digital sensor and processed with Leica GPro software. The full sized georeferenced TIFF images were then compressed with Lizardtech MrSID software.\n\nThe imagery was obtained between 2/27/2010 and 3/5/2010.\n\nHorizontal_Positional_Accuracy_Report: This imagery complies with ASPRS Class II standards. It has been tested at 95% confidence level to have an RMS positional displacement within 4' of well defined ground features in obscured areas. Does not apply to vertical surface features, such as structures, appearing in the digital orthoimagery due to inherent lean. Tested horizontal RMSE on controls within the project area is 1.35'.",
  "Subject": "2010 Orthophotography for Nashville / Davidson County, Tennessee. \nNashville/Davidson 200 scale, 0.75' pixel digital color orthoimagery.",
  "Category": "",
  "AntialiasingMode": "None",
  "TextAntialiasingMode": "Force",
  "Keywords": "Nashville; Davidson County; Tennessee; Ortho; Imagery"
 },
 "capabilities": "Map",
 "supportedQueryFormats": "JSON, geoJSON",
 "exportTilesAllowed": false,
 "referenceScale": 0,
 "datumTransformations": [
  {
   "geoTransforms": [
    {
     "wkid": 8494,
     "latestWkid": 1515,
     "transformForward": true,
     "name": "NAD_1983_To_WGS_1984_5"
    }
   ]
  },
  {
   "geoTransforms": [
    {
     "wkid": 8494,
     "latestWkid": 1515,
     "transformForward": false,
     "name": "NAD_1983_To_WGS_1984_5"
    }
   ]
  }
 ],
 "supportsDatumTransformation": true,
 "maxRecordCount": 1000,
 "maxImageHeight": 4096,
 "maxImageWidth": 4096,
 "supportedExtensions": "KmlServer"
}
