View In:
ArcGIS JavaScript
ArcGIS Online Map Viewer
ArcGIS Earth
ArcMap
ArcGIS Pro
View Footprint In:
ArcGIS Online Map Viewer
Service Description: 2009 Orthophotography for Nashville / Davidson County, Tennessee. Nashville/Davidson 100 scale, 1.0' pixel color orthophotography. Data acquired by the State of Tennessee on March 4th, 2009.
Map Name: Layers
Legend
All Layers and Tables
Layers:
Description:
Copyright Text: State Of Tennessee
Spatial Reference:
102100
(3857)
Single Fused Map Cache: true
Tile Info:
- Height: 256
- Width: 256
- DPI: 96
-
Levels of Detail: 21
-
Level ID: 0
[ Start Tile, End Tile ]
- Resolution: 156543.03392800014
- Scale: 5.91657527591555E8
-
Level ID: 1
[ Start Tile, End Tile ]
- Resolution: 78271.51696399994
- Scale: 2.95828763795777E8
-
Level ID: 2
[ Start Tile, End Tile ]
- Resolution: 39135.75848200009
- Scale: 1.47914381897889E8
-
Level ID: 3
[ Start Tile, End Tile ]
- Resolution: 19567.87924099992
- Scale: 7.3957190948944E7
-
Level ID: 4
[ Start Tile, End Tile ]
- Resolution: 9783.93962049996
- Scale: 3.6978595474472E7
-
Level ID: 5
[ Start Tile, End Tile ]
- Resolution: 4891.96981024998
- Scale: 1.8489297737236E7
- Format: Mixed
- Compression Quality: 75.0
- Origin: X: -2.0037508342787E7
Y: 2.0037508342787E7
- Spatial Reference: 102100
(3857)
Initial Extent:
XMin: -9698657.513607182
YMin: 4318346.045538309
XMax: -9622758.237519577
YMax: 4358739.897557815
Spatial Reference: 102100
(3857)
Full Extent:
XMin: -9695285.511870367
YMin: 4293408.74932984
XMax: -9626130.239249859
YMax: 4357605.578025495
Spatial Reference: 102100
(3857)
Units: esriMeters
Supported Image Format Types: PNG32,PNG24,PNG,JPG,DIB,TIFF,EMF,PS,PDF,GIF,SVG,SVGZ,BMP
Document Info:
Title:
Author:
Comments: This 1":100' scale imagery is comprised of natural color orthophotography with a GSD (Ground Sample Distance) of 0.5'. Imagery was collected with the Leica ADS40 digital sensor and processed with Leica GPro software.
The imagery was obtained on 3/20/2008
Horizontal_Positional_Accuracy_Report: This image complies with ASPRS Class II standards. It has been tested at 95% confidence level to have an RMS positional displacement within 2' of well defined ground features in obscured areas. Does not apply to vertical surface features, such as structures, appearing in the digital orthophotography due to inherent lean. Tested horizontal RMSE on controls within the project area is 0.52'.
Subject: 2008 Orthophotography for Nashville / Davidson County, Tennessee. Nashville/Davidson
Nashville/Davidson 100 scale, 0.5' pixel digital color orthophotography.
Category:
Keywords: Nashville; Davidson County; Tennessee; Ortho; Imagery
AntialiasingMode: None
TextAntialiasingMode: Force
Supports Dynamic Layers: false
MaxRecordCount: 1000
MaxImageHeight: 4096
MaxImageWidth: 4096
Supported Query Formats: JSON, geoJSON
Supports Query Data Elements:
Min Scale: 577790.554289
Max Scale: 564.248588
Supports Datum Transformation: true
Child Resources:
Info
Supported Operations:
Export Map
Identify
QueryDomains
QueryLegends
Find
Return Updates
Generate KML