View In:
ArcGIS JavaScript
ArcGIS Online Map Viewer
ArcGIS Earth
ArcMap
ArcGIS Pro
View Footprint In:
ArcGIS Online Map Viewer
Service Description: This 1":200' scale imagery is comprised of natural color (RGB) orthoimagery with a GSD (Ground Sample Distance) of 1.0'. Imagery was collected with the Leica ADS40 digital sensor and processed with Leica GPro software. The full sized georeferenced TIFF images were then compressed with Lizardtech MrSID software.
The imagery was obtained May 3, 2010.
Horizontal_Positional_Accuracy_Report: This imagery complies with National Map Accuracy Standards (NMAS) for 1" = 200' scale mapping products. Does not apply to vertical surface features, such as structures, appearing in the digital orthoimagery due to inherent lean.
Map Name: Layers
Legend
All Layers and Tables
Layers:
Description:
Copyright Text: MetroGIS; Kucera International, Inc.
Spatial Reference:
102100
(3857)
Single Fused Map Cache: true
Tile Info:
- Height: 256
- Width: 256
- DPI: 96
-
Levels of Detail: 20
-
Level ID: 0
[ Start Tile, End Tile ]
- Resolution: 156543.03392800014
- Scale: 5.91657527591555E8
-
Level ID: 1
[ Start Tile, End Tile ]
- Resolution: 78271.51696399994
- Scale: 2.95828763795777E8
-
Level ID: 2
[ Start Tile, End Tile ]
- Resolution: 39135.75848200009
- Scale: 1.47914381897889E8
-
Level ID: 3
[ Start Tile, End Tile ]
- Resolution: 19567.87924099992
- Scale: 7.3957190948944E7
-
Level ID: 4
[ Start Tile, End Tile ]
- Resolution: 9783.93962049996
- Scale: 3.6978595474472E7
-
Level ID: 5
[ Start Tile, End Tile ]
- Resolution: 4891.96981024998
- Scale: 1.8489297737236E7
- Format: MIXED
- Compression Quality: 75.0
- Origin: X: -2.0037508342787E7
Y: 2.0037508342787E7
- Spatial Reference: 102100
(3857)
Initial Extent:
XMin: -9700450.713078449
YMin: 4316628.184336992
XMax: -9623298.05877314
YMax: 4358458.89299841
Spatial Reference: 102100
(3857)
Full Extent:
XMin: -9693771.154221985
YMin: 4293426.777269729
XMax: -9629891.078932507
YMax: 4357586.63905809
Spatial Reference: 102100
(3857)
Units: esriMeters
Supported Image Format Types: PNG32,PNG24,PNG,JPG,DIB,TIFF,EMF,PS,PDF,GIF,SVG,SVGZ,BMP
Document Info:
Title:
Author:
Comments: This 1":100' scale imagery is comprised of natural color (RGB)and color infrared (CIR) orthoimagery with a GSD (Ground Sample Distance) of 0.75'. Imagery was collected with the Leica ADS40 digital sensor and processed with Leica GPro software. The full sized georeferenced TIFF images were then compressed with Lizardtech MrSID software.
The imagery was obtained between 2/27/2010 and 3/5/2010.
Horizontal_Positional_Accuracy_Report: This imagery complies with ASPRS Class II standards. It has been tested at 95% confidence level to have an RMS positional displacement within 4' of well defined ground features in obscured areas. Does not apply to vertical surface features, such as structures, appearing in the digital orthoimagery due to inherent lean. Tested horizontal RMSE on controls within the project area is 1.35'.
Subject: 2010 Orthophotography for Nashville / Davidson County, Tennessee. Nashville/Davidson 200 scale, 0.75' pixel digital color orthoimagery.
Category:
Keywords: Nashville; Davidson County; Tennessee; Ortho; Imagery
AntialiasingMode: None
TextAntialiasingMode: Force
Supports Dynamic Layers: false
MaxRecordCount: 1000
MaxImageHeight: 4096
MaxImageWidth: 4096
Supported Query Formats: JSON, geoJSON
Supports Query Data Elements:
Min Scale: 1155581.108577
Max Scale: 1128.497176
Supports Datum Transformation: true
Child Resources:
Info
Supported Operations:
Export Map
Return Updates
Generate KML